BEGIN:VCALENDAR
VERSION:2.0
PRODID:-//wp-events-plugin.com//7.2.3.1//EN
TZID:Asia/Tokyo
X-WR-TIMEZONE:Asia/Tokyo
BEGIN:VEVENT
UID:0-10@sasebonorth.org
DTSTART;TZID=Asia/Tokyo;VALUE=DATE:20251024
DTEND;TZID=Asia/Tokyo;VALUE=DATE:20251026
DTSTAMP:20250804T082251Z
URL:https://sasebonorth.org/events/20251024-25/
SUMMARY:国際ロータリー第２７４０地区　2025‐26年度　地
 区大会
DESCRIPTION:&nbsp\;\n\n\n\nPDFはコチラから
CATEGORIES:地区大会
END:VEVENT
BEGIN:VTIMEZONE
TZID:Asia/Tokyo
X-LIC-LOCATION:Asia/Tokyo
BEGIN:STANDARD
DTSTART:20241024T000000
TZOFFSETFROM:+0900
TZOFFSETTO:+0900
TZNAME:JST
END:STANDARD
END:VTIMEZONE
END:VCALENDAR